Workbook

Sheet Produção Global 2026
A2: Policlínica Estadual da Região Sudeste – Unidade Quirinópolis - IPGSE
A3: Produção Assistencial 2026
A4: Atendimento Ambulatorial | B4: Meta mensal | C4: SETEMBRO
C5: Ofertados | D5: Agendados | E5: Realizados | F5: % Atingida
A6: Consultas Médicas | B6: 2800 | C6: =C32 -> 2924 | D6: =D32 -> 3260 | E6: =E32 -> 2638 | F6: =E6/B6 -> 0.94214286
A7: Consultas Multiprofissional | B7: 4200 | C7: =C43 -> 5233 | D7: =D43 -> 3258 | E7: =E43 -> 3788 | F7: =E7/B7 -> 0.90190476
A8: Consultas Médicas por Especialidades | B8: Meta mensal | C8: =C4 -> SETEMBRO
C9: =C5 -> Ofertados | D9: =D5 -> Agendados | E9: =E5 -> Realizados | F9: % Atingida
A10: Angiologia/Cirurgia Vascular | B10: 51 | C10: 60 | D10: 76 | E10: 60 | F10: =E10/C10 -> 1
A11: Cardiologia | B11: 260 | C11: 272 | D11: 331 | E11: 238 | F11: =E11/C11 -> 0.875
A12: Coloproctologista | B12: 32 | C12: 50 | D12: 67 | E12: 50 | F12: =E12/C12 -> 1
A13: Clínico Geral – linha do cuidado | B13: 162 | C13: 315 | D13: 396 | E13: 348 | F13: =E13/C13 -> 1.1047619
A14: Dermatologia | B14: 77 | C14: 140 | D14: 154 | E14: 160 | F14: =E14/C14 -> 1.1428571
A15: Endocrinologia | B15: 179 | C15: 220 | D15: 295 | E15: 242 | F15: =E15/C15 -> 1.1
A16: Gastroenterologia | B16: 94 | C16: 160 | D16: 178 | E16: 148 | F16: =E16/C16 -> 0.925
A17: Ginecologia | B17: 191 | C17: 184 | D17: 130 | E17: 97 | F17: =E17/C17 -> 0.52717391
A18: Hematologia | B18: 32 | C18: 32 | D18: 36 | E18: 33 | F18: =E18/C18 -> 1.03125
A19: Infectologia | B19: 32 | C19: 32 | D19: 10 | E19: 6 | F19: =E19/C19 -> 0.1875
A20: Mastologia | B20: 46 | C20: 60 | D20: 66 | E20: 52 | F20: =E20/C20 -> 0.86666667
A21: Nefrologia | B21: 71 | C21: 100 | D21: 90 | E21: 78 | F21: =E21/C21 -> 0.78
... A31: Urologia | B31: 104 | C31: 120 | D31: 128 | E31: 106 | F31: =E31/C31 -> 0.88333333
A32: Total | B32: =SUM(B10:B31) -> 2538 | C32: =SUM(C10:C31) -> 2924 | D32: =SUM(D10:D31) -> 3260 | E32: =SUM(E10:E31) -> 2638 | F32: =E32/2800 -> 0.94214286
A33: Especialidades Médicas | B33: Meta mensal | C33: =C8 -> SETEMBRO
A34: Anestesiologia | B34: 88 | C34: 52
A35: Consultas Não Médicas por Especialidades | B35: Meta mensal | C35: =C33 -> SETEMBRO
C36: Ofertados | D36: =D5 -> Agendados | E36: Realizados | F36: =F9 -> % Atingida
A37: Enfermeiro | B37: 4200 | C37: 1428 | D37: 1548 | E37: 1483 | F37: =E37/C37 -> 1.0385154
A38: Farmacêutico | C38: 504 | D38: 39 | E38: 629 | F38: =E38/C38 -> 1.2480159 | G38: As consultas realizadas pelo Serviço Social deverão ser registradas em separado, e não confi guram consultas ambulatoriais da equipe multi profi ssional,sendo apenas informadas conforme as normas defi nidas pela Secretaria da Saúde – SES/GO .
A39: Fisioterapeuta | C39: 1518 | D39: 686 | E39: 600 | F39: =E39/C39 -> 0.39525692
A40: Fonoaudiólogo | C40: 40 | D40: 42 | E40: 13 | F40: =E40/C40 -> 0.325
A41: Nutricionista | C41: 840 | D41: 442 | E41: 574 | F41: =E41/C41 -> 0.68333333
A42: Psicólogo | C42: 903 | D42: 501 | E42: 489 | F42: =E42/C42 -> 0.54152824
A43: Total | C43: =SUM(C37:C42) -> 5233 | D43: =SUM(D37:D42) -> 3258 | E43: =SUM(E37:E42) -> 3788 | F43: =E43/B37 -> 0.90190476
A44: Consulta Não Médica Exclusa da Meta | B44: Meta mensal | C44: =C35 -> SETEMBRO
A45: Enfermagem (triagem) | B45: Sem meta | C45: 2184
A46: Serviço Social | C46: 177
A47: Total | C47: =SUM(C45:E46) -> 2361
A48: Práticas Integrativas e complementares - PICS | B48: Meta mensal | C48: =C44 -> SETEMBRO
A49: Arteterapia | B49: Sem Meta | C49: 4
A50: Meditação | C50: 1
...

Sheet Produção Externa 2026
A2: Policlínica Estadual da Região Sudeste – Unidade Quirinópolis - IPGSE
A3: Produção Assistencial 2026
A4: Atendimento Ambulatorial | B4: Meta mensal | C4: SETEMBRO
C5: Ofertados | D5: Agendados | E5: Realizados | F5: % Atingida
A6: Consultas Médicas | B6: 2800 | C6: =C32 -> 2924 | D6: =D32 -> 3260 | E6: =E32 -> 2604 | F6: =E6/B6 -> 0.93
A7: Consultas Multiprofissional | B7: 4200 | C7: =C43 -> 5233 | D7: =D43 -> 3258 | E7: =E43 -> 3788 | F7: =E7/B7 -> 0.90190476
A8: Consultas Médicas por Especialidades | B8: Meta mensal | C8: =C4 -> SETEMBRO
C9: =C5 -> Ofertados | D9: =D5 -> Agendados | E9: =E5 -> Realizados | F9: % Atingida
A10: Angiologia/Cirurgia Vascular | B10: 51 | C10: 60 | D10: 76 | E10: 60 | F10: =E10/C10 -> 1
A11: Cardiologia | B11: 260 | C11: 272 | D11: 331 | E11: 238 | F11: =E11/C11 -> 0.875
A12: Coloproctologista | B12: 32 | C12: 50 | D12: 67 | E12: 50 | F12: =E12/C12 -> 1
A13: Clínico Geral – linha do cuidado | B13: 162 | C13: 315 | D13: 396 | E13: 317 | F13: =E13/C13 -> 1.0063492
A14: Dermatologia | B14: 77 | C14: 140 | D14: 154 | E14: 160 | F14: =E14/C14 -> 1.1428571
A15: Endocrinologia | B15: 179 | C15: 220 | D15: 295 | E15: 242 | F15: =E15/C15 -> 1.1
A16: Gastroenterologia | B16: 94 | C16: 160 | D16: 178 | E16: 148 | F16: =E16/C16 -> 0.925
A17: Ginecologia | B17: 191 | C17: 184 | D17: 130 | E17: 97 | F17: =E17/C17 -> 0.52717391
A18: Hematologia | B18: 32 | C18: 32 | D18: 36 | E18: 33 | F18: =E18/C18 -> 1.03125
A19: Infectologia | B19: 32 | C19: 32 | D19: 10 | E19: 6 | F19: =E19/C19 -> 0.1875
A20: Mastologia | B20: 46 | C20: 60 | D20: 66 | E20: 52 | F20: =E20/C20 -> 0.86666667
A21: Nefrologia | B21: 71 | C21: 100 | D21: 90 | E21: 78 | F21: =E21/C21 -> 0.78
... A31: Urologia | B31: 104 | C31: 120 | D31: 128 | E31: 103 | F31: =E31/C31 -> 0.85833333
A32: Total | B32: =SUM(B10:B31) -> 2538 | C32: =SUM(C10:C31) -> 2924 | D32: =SUM(D10:D31) -> 3260 | E32: =SUM(E10:E31) -> 2604 | F32: =E32/2800 -> 0.93
A33: Especialidades Médicas | B33: Meta mensal | C33: =C8 -> SETEMBRO
A34: Anestesiologia | B34: 88 | C34: 52
A35: Consultas Não Médicas por Especialidades | B35: Meta mensal | C35: =C33 -> SETEMBRO
C36: Ofertados | D36: =D5 -> Agendados | E36: Realizados | F36: =F9 -> % Atingida
A37: Enfermeiro | B37: 4200 | C37: 1428 | D37: 1548 | E37: 1483 | F37: =E37/C37 -> 1.0385154
A38: Farmacêutico | C38: 504 | D38: 39 | E38: 629 | F38: =E38/C38 -> 1.2480159 | G38: As consultas realizadas pelo Serviço Social deverão ser registradas em separado, e não confi guram consultas ambulatoriais da equipe multi profi ssional,sendo apenas informadas conforme as normas defi nidas pela Secretaria da Saúde – SES/GO .
A39: Fisioterapeuta | C39: 1518 | D39: 686 | E39: 600 | F39: =E39/C39 -> 0.39525692
A40: Fonoaudiólogo | C40: 40 | D40: 42 | E40: 13 | F40: =E40/C40 -> 0.325
A41: Nutricionista | C41: 840 | D41: 442 | E41: 574 | F41: =E41/C41 -> 0.68333333
A42: Psicólogo | C42: 903 | D42: 501 | E42: 489 | F42: =E42/C42 -> 0.54152824
A43: Total | C43: =SUM(C37:C42) -> 5233 | D43: =SUM(D37:D42) -> 3258 | E43: =SUM(E37:E42) -> 3788 | F43: =E43/B37 -> 0.90190476
A44: Consulta Não Médica Exclusa da Meta | B44: Meta mensal | C44: =C35 -> SETEMBRO
A45: Enfermagem (triagem) | B45: Sem meta | C45: 2184
A46: Serviço Social | C46: 177
A47: Total | C47: =SUM(C45:E46) -> 2361
A48: Práticas Integrativas e complementares - PICS | B48: Meta mensal | C48: =C44 -> SETEMBRO
A49: Arteterapia | B49: Sem Meta | C49: 4
A50: Meditação | C50: 1
...

Sheet Desempenho 2026
A2: Policlínica Estadual da Região Sudeste – Unidade Quirinópolis - IPGSE
A3: INDICADORES E METAS DE DESEMPENHO SETEMBRO 2026
A4: Indicador de Desempenho | B4: Meta Mensal | D4: ='Produção Externa 2026'!E5 -> Realizados
A5: 1. Razão do Quantitativo de Consultas Ofertadas | B5: 1 | D5: =IF(D7="","",D6/D7) -> 1.0442857
A6: Número de consultas ofertadas | D6: ='Produção Externa 2026'!C32 -> 2924
A7: Número de consultas propostas | D7: 2800
A8: 2. Razão do Quantitativo de exames (SADT) Ofertadas | B8: 1 | D8: =IF(D10="","",D9/D10) -> 0.98871473
A9: Número de SADT ofertados | D9: ='Produção Externa 2026'!C92 -> 1577
A10: Número de SADT proposto na metas | D10: ='Produção Externa 2026'!B92 -> 1595
A11: 3. Percentual de Exames de Imagem com resultado liberado em até 72 horas | B11: ≥ | C11: 0.7 | D11: =IF(D13="","",D12/D13) -> 1
A12: Número de exames de imagem liberados em até 72 horas | D12: 532
A13: Total de exames de imagem realizados | D13: 532
A14: 4. Taxa de acuracidade de estoque dos medicamentos do Componente Especializado da Assistência Farmacêutica | B14: ≥ | C14: 0.99 | D14: =IF(D16="","",D15/D16) -> 0.99103139
A15: Número total de itens contabilizados (estoque físico/estoque sistema) em conformidade | D15: 221
A16: Número total de itens padronizados cadastrados no sistema | D16: 223
A17: 5. Percentual de consultas farmacêuticas em relação ao número de processos do CEAF atendidos no mês | B17: ≥ | C17: 0.05 | D17: =IF(D19="","",D18/D19) -> 0.053614047
A18: Quantitativo de consultas realizadas | D18: 629
A19: Total de processos atendidos no período | D19: 11732
A20: 6. Taxa de perda financeira por vencimento | B20: ≤ | C20: 0.005 | D20: =IF(D22="","",D21/D22) -> 0.0029981615
A21: Valor financeiro da perda de medicamentos padronizados por validade expirada | D21: 96.87
A22: Valor financeiro de medicamentos inventariados no período | D22: 32309.8
A23: ='Produção Externa 2026'!A121 -> Fonte: MV | SoulMV - POLICLÍNICA DE QUIRINOPOLIS DE 01/09/2026 - 30/09/2026
A25: Aprovado pela Diretoria Administrativa :
A28: Ricardo Martins Sousa

Sheet Efetividade 2026
A2: Policlínica Estadual da Região Sudeste – Unidade Quirinópolis - IPGSE
A3: Indicadores de Efetividade SETEMBRO 2026
A4: Indicador de Gestão Ambulatorial (%) | B4: ='Desempenho 2026'!D4 -> Realizados
A5: Taxa de Perda Primária Global (%) | B5: 0.22
A6: Taxa de Perda Primária Consultas Médicas | B6: 0.1
A7: Taxa de Perda Primária Não Médicas | B7: 0.28
A8: Taxa de Absenteísmo Global (%) | B8: 0.01
A9: Taxa de Absenteísmo Consultas Médicas | B9: 0.19
A10: Taxa de Absenteísmo Consultas Não Médicas | B10: 0
A12: Desaproveitamento SADT | B12: Setembro
A13: Procedimento | B13: Perda primária | C13: Absenteísmo
A14: Audiometria | B14: 0 | C14: 0
A15: Cistoscopia | B15: 0 | C15: 0
A16: Colonoscopia | B16: 17 | C16: 0.3
A17: Colposcopia | B17: 9 | C17: 0.45
A18: Densitometria Óssea | B18: 27 | C18: 0.43
A19: Doppler Vascular | B19: 45 | C19: 0.4
A20: Ecocardiografia | B20: 28 | C20: 0.35
A21: Eletrocardiografia | B21: 19 | C21: 0.9
A22: Eletroencefalografia | B22: 7 | C22: 0.44
A23: Eletroneuromiografia | B23: 0 | C23: 0
A24: Emissões Otoacústica | B24: 0 | C24: 0
A25: Endoscopia | B25: 42 | C25: 0.3
... A40: Videolaringoscopia | B40: 3 | C40: 0.3
A41: Total | B41: =SUM(B14:B40) -> 593 | C41: =MEDIAN(C14:C40) -> 0.3
A43: Taxa de Absenteísmo | B43: =B12 -> Setembro
A44: Profissão | B44: Estatutário | C44: Celetista
A45: Enfermeiro | B45: 0 | C45: 1
A46: Técnico de Enfermagem | B46: 0 | C46: 18
A47: Médicos | B47: 0
A48: Nutricionista | B48: 0
A49: Fisioterapeuta | B49: 0 | C49: 1
A50: Psicólogo | B50: 0 | C50: 2
A51: Farmacêutico | B51: 0
A52: Biomédico | B52: 0
A53: Assistente social | B53: 0
A54: Áreas administrativas e de suporte | B54: 0 | C54: 74
A55: Geral | B55: 0 | C55: =SUM(C45:C54) -> 96
A57: Rotatividade | B57: =B43 -> Setembro
A58: Enfermeiro
...
